BEGIN:VCALENDAR
VERSION:2.0
PRODID:-//DJ Angelo Miami&#039;s Open Format DJ - ECPv6.15.20//NONSGML v1.0//EN
CALSCALE:GREGORIAN
METHOD:PUBLISH
X-WR-CALNAME:DJ Angelo Miami&#039;s Open Format DJ
X-ORIGINAL-URL:https://djangelo.net
X-WR-CALDESC:Events for DJ Angelo Miami&#039;s Open Format DJ
REFRESH-INTERVAL;VALUE=DURATION:PT1H
X-Robots-Tag:noindex
X-PUBLISHED-TTL:PT1H
BEGIN:VTIMEZONE
TZID:America/New_York
BEGIN:DAYLIGHT
TZOFFSETFROM:-0500
TZOFFSETTO:-0400
TZNAME:EDT
DTSTART:20250309T070000
END:DAYLIGHT
BEGIN:STANDARD
TZOFFSETFROM:-0400
TZOFFSETTO:-0500
TZNAME:EST
DTSTART:20251102T060000
END:STANDARD
BEGIN:DAYLIGHT
TZOFFSETFROM:-0500
TZOFFSETTO:-0400
TZNAME:EDT
DTSTART:20260308T070000
END:DAYLIGHT
BEGIN:STANDARD
TZOFFSETFROM:-0400
TZOFFSETTO:-0500
TZNAME:EST
DTSTART:20261101T060000
END:STANDARD
BEGIN:DAYLIGHT
TZOFFSETFROM:-0500
TZOFFSETTO:-0400
TZNAME:EDT
DTSTART:20270314T070000
END:DAYLIGHT
BEGIN:STANDARD
TZOFFSETFROM:-0400
TZOFFSETTO:-0500
TZNAME:EST
DTSTART:20271107T060000
END:STANDARD
END:VTIMEZONE
BEGIN:VEVENT
DTSTART;TZID=America/New_York:20260421T170000
DTEND;TZID=America/New_York:20260421T220000
DTSTAMP:20260424T050039
CREATED:20200303T060647Z
LAST-MODIFIED:20200303T060647Z
UID:1597-1776790800-1776808800@djangelo.net
SUMMARY:Miami Food Trucks Event at Halouver Park (TUESDAYS)
DESCRIPTION:
URL:https://djangelo.net/event/miami-food-trucks-event-at-halouver-park-tuesdays-2026-04-21/
CATEGORIES:Outdoor Event
END:VEVENT
BEGIN:VEVENT
DTSTART;TZID=America/New_York:20260428T170000
DTEND;TZID=America/New_York:20260428T220000
DTSTAMP:20260424T050039
CREATED:20200303T060647Z
LAST-MODIFIED:20200303T060647Z
UID:1598-1777395600-1777413600@djangelo.net
SUMMARY:Miami Food Trucks Event at Halouver Park (TUESDAYS)
DESCRIPTION:
URL:https://djangelo.net/event/miami-food-trucks-event-at-halouver-park-tuesdays-2026-04-28/
CATEGORIES:Outdoor Event
END:VEVENT
BEGIN:VEVENT
DTSTART;TZID=America/New_York:20260505T170000
DTEND;TZID=America/New_York:20260505T220000
DTSTAMP:20260424T050039
CREATED:20200303T060647Z
LAST-MODIFIED:20200303T060647Z
UID:1599-1778000400-1778018400@djangelo.net
SUMMARY:Miami Food Trucks Event at Halouver Park (TUESDAYS)
DESCRIPTION:
URL:https://djangelo.net/event/miami-food-trucks-event-at-halouver-park-tuesdays-2026-05-05/
CATEGORIES:Outdoor Event
END:VEVENT
BEGIN:VEVENT
DTSTART;TZID=America/New_York:20260512T170000
DTEND;TZID=America/New_York:20260512T220000
DTSTAMP:20260424T050039
CREATED:20200303T060647Z
LAST-MODIFIED:20200303T060647Z
UID:1600-1778605200-1778623200@djangelo.net
SUMMARY:Miami Food Trucks Event at Halouver Park (TUESDAYS)
DESCRIPTION:
URL:https://djangelo.net/event/miami-food-trucks-event-at-halouver-park-tuesdays-2026-05-12/
CATEGORIES:Outdoor Event
END:VEVENT
BEGIN:VEVENT
DTSTART;TZID=America/New_York:20260519T170000
DTEND;TZID=America/New_York:20260519T220000
DTSTAMP:20260424T050039
CREATED:20200303T060647Z
LAST-MODIFIED:20200303T060647Z
UID:1601-1779210000-1779228000@djangelo.net
SUMMARY:Miami Food Trucks Event at Halouver Park (TUESDAYS)
DESCRIPTION:
URL:https://djangelo.net/event/miami-food-trucks-event-at-halouver-park-tuesdays-2026-05-19/
CATEGORIES:Outdoor Event
END:VEVENT
BEGIN:VEVENT
DTSTART;TZID=America/New_York:20260526T170000
DTEND;TZID=America/New_York:20260526T220000
DTSTAMP:20260424T050039
CREATED:20200303T060647Z
LAST-MODIFIED:20200303T060647Z
UID:1602-1779814800-1779832800@djangelo.net
SUMMARY:Miami Food Trucks Event at Halouver Park (TUESDAYS)
DESCRIPTION:
URL:https://djangelo.net/event/miami-food-trucks-event-at-halouver-park-tuesdays-2026-05-26/
CATEGORIES:Outdoor Event
END:VEVENT
BEGIN:VEVENT
DTSTART;TZID=America/New_York:20260602T170000
DTEND;TZID=America/New_York:20260602T220000
DTSTAMP:20260424T050039
CREATED:20200303T060647Z
LAST-MODIFIED:20200303T060647Z
UID:1603-1780419600-1780437600@djangelo.net
SUMMARY:Miami Food Trucks Event at Halouver Park (TUESDAYS)
DESCRIPTION:
URL:https://djangelo.net/event/miami-food-trucks-event-at-halouver-park-tuesdays-2026-06-02/
CATEGORIES:Outdoor Event
END:VEVENT
BEGIN:VEVENT
DTSTART;TZID=America/New_York:20260609T170000
DTEND;TZID=America/New_York:20260609T220000
DTSTAMP:20260424T050039
CREATED:20200303T060647Z
LAST-MODIFIED:20200303T060647Z
UID:1604-1781024400-1781042400@djangelo.net
SUMMARY:Miami Food Trucks Event at Halouver Park (TUESDAYS)
DESCRIPTION:
URL:https://djangelo.net/event/miami-food-trucks-event-at-halouver-park-tuesdays-2026-06-09/
CATEGORIES:Outdoor Event
END:VEVENT
BEGIN:VEVENT
DTSTART;TZID=America/New_York:20260616T170000
DTEND;TZID=America/New_York:20260616T220000
DTSTAMP:20260424T050039
CREATED:20200303T060647Z
LAST-MODIFIED:20200303T060647Z
UID:1605-1781629200-1781647200@djangelo.net
SUMMARY:Miami Food Trucks Event at Halouver Park (TUESDAYS)
DESCRIPTION:
URL:https://djangelo.net/event/miami-food-trucks-event-at-halouver-park-tuesdays-2026-06-16/
CATEGORIES:Outdoor Event
END:VEVENT
BEGIN:VEVENT
DTSTART;TZID=America/New_York:20260623T170000
DTEND;TZID=America/New_York:20260623T220000
DTSTAMP:20260424T050039
CREATED:20200303T060647Z
LAST-MODIFIED:20200303T060647Z
UID:1606-1782234000-1782252000@djangelo.net
SUMMARY:Miami Food Trucks Event at Halouver Park (TUESDAYS)
DESCRIPTION:
URL:https://djangelo.net/event/miami-food-trucks-event-at-halouver-park-tuesdays-2026-06-23/
CATEGORIES:Outdoor Event
END:VEVENT
BEGIN:VEVENT
DTSTART;TZID=America/New_York:20260630T170000
DTEND;TZID=America/New_York:20260630T220000
DTSTAMP:20260424T050039
CREATED:20200303T060647Z
LAST-MODIFIED:20200303T060647Z
UID:1607-1782838800-1782856800@djangelo.net
SUMMARY:Miami Food Trucks Event at Halouver Park (TUESDAYS)
DESCRIPTION:
URL:https://djangelo.net/event/miami-food-trucks-event-at-halouver-park-tuesdays-2026-06-30/
CATEGORIES:Outdoor Event
END:VEVENT
BEGIN:VEVENT
DTSTART;TZID=America/New_York:20260707T170000
DTEND;TZID=America/New_York:20260707T220000
DTSTAMP:20260424T050039
CREATED:20200303T060647Z
LAST-MODIFIED:20200303T060647Z
UID:1608-1783443600-1783461600@djangelo.net
SUMMARY:Miami Food Trucks Event at Halouver Park (TUESDAYS)
DESCRIPTION:
URL:https://djangelo.net/event/miami-food-trucks-event-at-halouver-park-tuesdays-2026-07-07/
CATEGORIES:Outdoor Event
END:VEVENT
BEGIN:VEVENT
DTSTART;TZID=America/New_York:20260714T170000
DTEND;TZID=America/New_York:20260714T220000
DTSTAMP:20260424T050039
CREATED:20200303T060647Z
LAST-MODIFIED:20200303T060647Z
UID:1609-1784048400-1784066400@djangelo.net
SUMMARY:Miami Food Trucks Event at Halouver Park (TUESDAYS)
DESCRIPTION:
URL:https://djangelo.net/event/miami-food-trucks-event-at-halouver-park-tuesdays-2026-07-14/
CATEGORIES:Outdoor Event
END:VEVENT
BEGIN:VEVENT
DTSTART;TZID=America/New_York:20260721T170000
DTEND;TZID=America/New_York:20260721T220000
DTSTAMP:20260424T050039
CREATED:20200303T060647Z
LAST-MODIFIED:20200303T060647Z
UID:1610-1784653200-1784671200@djangelo.net
SUMMARY:Miami Food Trucks Event at Halouver Park (TUESDAYS)
DESCRIPTION:
URL:https://djangelo.net/event/miami-food-trucks-event-at-halouver-park-tuesdays-2026-07-21/
CATEGORIES:Outdoor Event
END:VEVENT
BEGIN:VEVENT
DTSTART;TZID=America/New_York:20260728T170000
DTEND;TZID=America/New_York:20260728T220000
DTSTAMP:20260424T050039
CREATED:20200303T060647Z
LAST-MODIFIED:20200303T060647Z
UID:1611-1785258000-1785276000@djangelo.net
SUMMARY:Miami Food Trucks Event at Halouver Park (TUESDAYS)
DESCRIPTION:
URL:https://djangelo.net/event/miami-food-trucks-event-at-halouver-park-tuesdays-2026-07-28/
CATEGORIES:Outdoor Event
END:VEVENT
BEGIN:VEVENT
DTSTART;TZID=America/New_York:20260804T170000
DTEND;TZID=America/New_York:20260804T220000
DTSTAMP:20260424T050039
CREATED:20200303T060647Z
LAST-MODIFIED:20200303T060647Z
UID:1612-1785862800-1785880800@djangelo.net
SUMMARY:Miami Food Trucks Event at Halouver Park (TUESDAYS)
DESCRIPTION:
URL:https://djangelo.net/event/miami-food-trucks-event-at-halouver-park-tuesdays-2026-08-04/
CATEGORIES:Outdoor Event
END:VEVENT
BEGIN:VEVENT
DTSTART;TZID=America/New_York:20260811T170000
DTEND;TZID=America/New_York:20260811T220000
DTSTAMP:20260424T050039
CREATED:20200303T060647Z
LAST-MODIFIED:20200303T060647Z
UID:1613-1786467600-1786485600@djangelo.net
SUMMARY:Miami Food Trucks Event at Halouver Park (TUESDAYS)
DESCRIPTION:
URL:https://djangelo.net/event/miami-food-trucks-event-at-halouver-park-tuesdays-2026-08-11/
CATEGORIES:Outdoor Event
END:VEVENT
BEGIN:VEVENT
DTSTART;TZID=America/New_York:20260818T170000
DTEND;TZID=America/New_York:20260818T220000
DTSTAMP:20260424T050039
CREATED:20200303T060647Z
LAST-MODIFIED:20200303T060647Z
UID:1614-1787072400-1787090400@djangelo.net
SUMMARY:Miami Food Trucks Event at Halouver Park (TUESDAYS)
DESCRIPTION:
URL:https://djangelo.net/event/miami-food-trucks-event-at-halouver-park-tuesdays-2026-08-18/
CATEGORIES:Outdoor Event
END:VEVENT
BEGIN:VEVENT
DTSTART;TZID=America/New_York:20260825T170000
DTEND;TZID=America/New_York:20260825T220000
DTSTAMP:20260424T050039
CREATED:20200303T060647Z
LAST-MODIFIED:20200303T060647Z
UID:1615-1787677200-1787695200@djangelo.net
SUMMARY:Miami Food Trucks Event at Halouver Park (TUESDAYS)
DESCRIPTION:
URL:https://djangelo.net/event/miami-food-trucks-event-at-halouver-park-tuesdays-2026-08-25/
CATEGORIES:Outdoor Event
END:VEVENT
BEGIN:VEVENT
DTSTART;TZID=America/New_York:20260901T170000
DTEND;TZID=America/New_York:20260901T220000
DTSTAMP:20260424T050039
CREATED:20200303T060647Z
LAST-MODIFIED:20200303T060647Z
UID:1616-1788282000-1788300000@djangelo.net
SUMMARY:Miami Food Trucks Event at Halouver Park (TUESDAYS)
DESCRIPTION:
URL:https://djangelo.net/event/miami-food-trucks-event-at-halouver-park-tuesdays-2026-09-01/
CATEGORIES:Outdoor Event
END:VEVENT
BEGIN:VEVENT
DTSTART;TZID=America/New_York:20260908T170000
DTEND;TZID=America/New_York:20260908T220000
DTSTAMP:20260424T050039
CREATED:20200303T060647Z
LAST-MODIFIED:20200303T060647Z
UID:1617-1788886800-1788904800@djangelo.net
SUMMARY:Miami Food Trucks Event at Halouver Park (TUESDAYS)
DESCRIPTION:
URL:https://djangelo.net/event/miami-food-trucks-event-at-halouver-park-tuesdays-2026-09-08/
CATEGORIES:Outdoor Event
END:VEVENT
BEGIN:VEVENT
DTSTART;TZID=America/New_York:20260915T170000
DTEND;TZID=America/New_York:20260915T220000
DTSTAMP:20260424T050039
CREATED:20200303T060647Z
LAST-MODIFIED:20200303T060647Z
UID:1618-1789491600-1789509600@djangelo.net
SUMMARY:Miami Food Trucks Event at Halouver Park (TUESDAYS)
DESCRIPTION:
URL:https://djangelo.net/event/miami-food-trucks-event-at-halouver-park-tuesdays-2026-09-15/
CATEGORIES:Outdoor Event
END:VEVENT
BEGIN:VEVENT
DTSTART;TZID=America/New_York:20260922T170000
DTEND;TZID=America/New_York:20260922T220000
DTSTAMP:20260424T050039
CREATED:20200303T060647Z
LAST-MODIFIED:20200303T060647Z
UID:1619-1790096400-1790114400@djangelo.net
SUMMARY:Miami Food Trucks Event at Halouver Park (TUESDAYS)
DESCRIPTION:
URL:https://djangelo.net/event/miami-food-trucks-event-at-halouver-park-tuesdays-2026-09-22/
CATEGORIES:Outdoor Event
END:VEVENT
BEGIN:VEVENT
DTSTART;TZID=America/New_York:20260929T170000
DTEND;TZID=America/New_York:20260929T220000
DTSTAMP:20260424T050039
CREATED:20200303T060647Z
LAST-MODIFIED:20200303T060647Z
UID:1620-1790701200-1790719200@djangelo.net
SUMMARY:Miami Food Trucks Event at Halouver Park (TUESDAYS)
DESCRIPTION:
URL:https://djangelo.net/event/miami-food-trucks-event-at-halouver-park-tuesdays-2026-09-29/
CATEGORIES:Outdoor Event
END:VEVENT
BEGIN:VEVENT
DTSTART;TZID=America/New_York:20261006T170000
DTEND;TZID=America/New_York:20261006T220000
DTSTAMP:20260424T050039
CREATED:20200303T060647Z
LAST-MODIFIED:20200303T060647Z
UID:1621-1791306000-1791324000@djangelo.net
SUMMARY:Miami Food Trucks Event at Halouver Park (TUESDAYS)
DESCRIPTION:
URL:https://djangelo.net/event/miami-food-trucks-event-at-halouver-park-tuesdays-2026-10-06/
CATEGORIES:Outdoor Event
END:VEVENT
BEGIN:VEVENT
DTSTART;TZID=America/New_York:20261013T170000
DTEND;TZID=America/New_York:20261013T220000
DTSTAMP:20260424T050039
CREATED:20200303T060647Z
LAST-MODIFIED:20200303T060647Z
UID:1622-1791910800-1791928800@djangelo.net
SUMMARY:Miami Food Trucks Event at Halouver Park (TUESDAYS)
DESCRIPTION:
URL:https://djangelo.net/event/miami-food-trucks-event-at-halouver-park-tuesdays-2026-10-13/
CATEGORIES:Outdoor Event
END:VEVENT
BEGIN:VEVENT
DTSTART;TZID=America/New_York:20261020T170000
DTEND;TZID=America/New_York:20261020T220000
DTSTAMP:20260424T050039
CREATED:20200303T060647Z
LAST-MODIFIED:20200303T060647Z
UID:1623-1792515600-1792533600@djangelo.net
SUMMARY:Miami Food Trucks Event at Halouver Park (TUESDAYS)
DESCRIPTION:
URL:https://djangelo.net/event/miami-food-trucks-event-at-halouver-park-tuesdays-2026-10-20/
CATEGORIES:Outdoor Event
END:VEVENT
BEGIN:VEVENT
DTSTART;TZID=America/New_York:20261027T170000
DTEND;TZID=America/New_York:20261027T220000
DTSTAMP:20260424T050039
CREATED:20200303T060647Z
LAST-MODIFIED:20200303T060647Z
UID:1624-1793120400-1793138400@djangelo.net
SUMMARY:Miami Food Trucks Event at Halouver Park (TUESDAYS)
DESCRIPTION:
URL:https://djangelo.net/event/miami-food-trucks-event-at-halouver-park-tuesdays-2026-10-27/
CATEGORIES:Outdoor Event
END:VEVENT
BEGIN:VEVENT
DTSTART;TZID=America/New_York:20261103T170000
DTEND;TZID=America/New_York:20261103T220000
DTSTAMP:20260424T050039
CREATED:20200303T060647Z
LAST-MODIFIED:20200303T060647Z
UID:1625-1793725200-1793743200@djangelo.net
SUMMARY:Miami Food Trucks Event at Halouver Park (TUESDAYS)
DESCRIPTION:
URL:https://djangelo.net/event/miami-food-trucks-event-at-halouver-park-tuesdays-2026-11-03/
CATEGORIES:Outdoor Event
END:VEVENT
END:VCALENDAR